BEGIN:VCALENDAR
VERSION:2.0
PRODID:-//The Davanos - ECPv5.8.1//NONSGML v1.0//EN
CALSCALE:GREGORIAN
METHOD:PUBLISH
X-WR-CALNAME:The Davanos
X-ORIGINAL-URL:https://davanos.com
X-WR-CALDESC:Events for The Davanos
BEGIN:VTIMEZONE

END:VTIMEZONE
BEGIN:VEVENT
DTSTART;TZID=America/Los_Angeles:20260421T045336
DTEND;TZID=America/Los_Angeles:20251230T113000
DTSTAMP:20260421T045336
CREATED:20251230T155247Z
LAST-MODIFIED:20251230T155505Z
UID:3801-0-1767094200@davanos.com
SUMMARY:Collector's Choice Restaurant
DESCRIPTION:
URL:https://davanos.com/show/collectors-choice-restaurant-4/
LOCATION:Collector’s Choice Restaurant\, 215 Cypress Ave.\, Snohomish\, WA\, 98290
END:VEVENT
BEGIN:VEVENT
DTSTART;TZID=America/Los_Angeles:20241204T080000
DTEND;TZID=America/Los_Angeles:20241204T170000
DTSTAMP:20260421T045336
CREATED:20241204T221233Z
LAST-MODIFIED:20241204T221233Z
UID:2996-1733299200-1733331600@davanos.com
SUMMARY:The Old Edison
DESCRIPTION:
URL:https://davanos.com/show/the-old-edison-01-05-25/
LOCATION:WA
END:VEVENT
END:VCALENDAR