BEGIN:VCALENDAR
VERSION:2.0
PRODID:-//The Davanos - ECPv5.8.1//NONSGML v1.0//EN
CALSCALE:GREGORIAN
METHOD:PUBLISH
X-WR-CALNAME:The Davanos
X-ORIGINAL-URL:https://davanos.com
X-WR-CALDESC:Events for The Davanos
BEGIN:VTIMEZONE

END:VTIMEZONE
BEGIN:VEVENT
DTSTART;TZID=America/Los_Angeles:20260421T164322
DTEND;TZID=America/Los_Angeles:20251230T113000
DTSTAMP:20260421T164322
CREATED:20251230T155247Z
LAST-MODIFIED:20251230T155505Z
UID:3801-0-1767094200@davanos.com
SUMMARY:Collector's Choice Restaurant
DESCRIPTION:
URL:https://davanos.com/show/collectors-choice-restaurant-4/
LOCATION:Collector’s Choice Restaurant\, 215 Cypress Ave.\, Snohomish\, WA\, 98290
END:VEVENT
BEGIN:VEVENT
DTSTART;TZID=America/Los_Angeles:20231231T210000
DTEND;TZID=America/Los_Angeles:20231231T233000
DTSTAMP:20260421T164322
CREATED:20231207T155908Z
LAST-MODIFIED:20231207T200912Z
UID:2516-1704056400-1704065400@davanos.com
SUMMARY:The SlaughterHouse Lounge
DESCRIPTION:
URL:https://davanos.com/show/the-slaughterhouse-lounge-12-31-23/
LOCATION:The SlaughterHouse Lounge\, 19829 168th St SE\, Monroe\, WA\, 98272-9309\, United States
END:VEVENT
END:VCALENDAR