BEGIN:VCALENDAR
VERSION:2.0
PRODID:-//The Davanos - ECPv5.8.1//NONSGML v1.0//EN
CALSCALE:GREGORIAN
METHOD:PUBLISH
X-WR-CALNAME:The Davanos
X-ORIGINAL-URL:https://davanos.com
X-WR-CALDESC:Events for The Davanos
BEGIN:VTIMEZONE

END:VTIMEZONE
BEGIN:VEVENT
DTSTART;TZID=America/Los_Angeles:20260422T020241
DTEND;TZID=America/Los_Angeles:20251230T113000
DTSTAMP:20260422T020241
CREATED:20251230T155247Z
LAST-MODIFIED:20251230T155505Z
UID:3801-0-1767094200@davanos.com
SUMMARY:Collector's Choice Restaurant
DESCRIPTION:
URL:https://davanos.com/show/collectors-choice-restaurant-4/
LOCATION:Collector’s Choice Restaurant\, 215 Cypress Ave.\, Snohomish\, WA\, 98290
END:VEVENT
BEGIN:VEVENT
DTSTART;TZID=America/Los_Angeles:20230715T183000
DTEND;TZID=America/Los_Angeles:20230715T200000
DTSTAMP:20260422T020241
CREATED:20230519T174414Z
LAST-MODIFIED:20230519T174613Z
UID:2155-1689445800-1689451200@davanos.com
SUMMARY:Mill Creek Festival
DESCRIPTION:
URL:https://davanos.com/show/mill-creek-festival-7-15-2023/
LOCATION:Mill Creek Festival\, Mill Creek Boulevard & 161st Street\, Mill Creek\, WA\, 98012\, United States
END:VEVENT
END:VCALENDAR