BEGIN:VCALENDAR
VERSION:2.0
PRODID:-//The Davanos - ECPv5.8.1//NONSGML v1.0//EN
CALSCALE:GREGORIAN
METHOD:PUBLISH
X-WR-CALNAME:The Davanos
X-ORIGINAL-URL:https://davanos.com
X-WR-CALDESC:Events for The Davanos
BEGIN:VTIMEZONE

END:VTIMEZONE
BEGIN:VEVENT
DTSTART;TZID=America/Los_Angeles:20260421T083546
DTEND;TZID=America/Los_Angeles:20251230T113000
DTSTAMP:20260421T083546
CREATED:20251230T155247Z
LAST-MODIFIED:20251230T155505Z
UID:3801-0-1767094200@davanos.com
SUMMARY:Collector's Choice Restaurant
DESCRIPTION:
URL:https://davanos.com/show/collectors-choice-restaurant-4/
LOCATION:Collector’s Choice Restaurant\, 215 Cypress Ave.\, Snohomish\, WA\, 98290
END:VEVENT
BEGIN:VEVENT
DTSTART;TZID=America/Los_Angeles:20220917T150000
DTEND;TZID=America/Los_Angeles:20220917T163000
DTSTAMP:20260421T083546
CREATED:20220902T100645Z
LAST-MODIFIED:20220902T101517Z
UID:1809-1663426800-1663432200@davanos.com
SUMMARY:Queen Anne Days
DESCRIPTION:  \nThe Davanos – Homestreet Main Stage\n \nSaturday\, Sept 17th 3pm-4:30pm\nThe Davanos were co-founded in 2003 by the incredibly talented duo of guitarist Jerry Battista and drummer Fred Holzman\, while Bassist Greg Youtsey completes the trifecta perfectly. The Davanos play a kick-ass combination of classic rock\, blues\, country western along with some of their own originals. \nBattista\, Holzman and Youtsey are all exceptional vocalists and share both lead and backing vocals. Featuring incredible harmonies and outstanding musicianship\, The Davanos can always be counted on to put on a highly entertaining show whether you come to dance or just watch and listen. \nVoted Seattle’s Best Rock Band in 2018 by the Seattle Weekly\, The Davanos are one of the most talented and entertaining bands on the Seattle music scene today.
URL:https://davanos.com/show/queen-anne-days-09-17-2022/
LOCATION:Queen Anne Days\, Crockett St. & 1st Ave W.\, Seattle\, WA\, 98119\, United States
END:VEVENT
END:VCALENDAR