BEGIN:VCALENDAR
VERSION:2.0
PRODID:-//The Davanos - ECPv5.8.1//NONSGML v1.0//EN
CALSCALE:GREGORIAN
METHOD:PUBLISH
X-WR-CALNAME:The Davanos
X-ORIGINAL-URL:https://davanos.com
X-WR-CALDESC:Events for The Davanos
BEGIN:VTIMEZONE

END:VTIMEZONE
BEGIN:VEVENT
DTSTART;TZID=America/Los_Angeles:20260422T093706
DTEND;TZID=America/Los_Angeles:20251230T113000
DTSTAMP:20260422T093706
CREATED:20251230T155247Z
LAST-MODIFIED:20251230T155505Z
UID:3801-0-1767094200@davanos.com
SUMMARY:Collector's Choice Restaurant
DESCRIPTION:
URL:https://davanos.com/show/collectors-choice-restaurant-4/
LOCATION:Collector’s Choice Restaurant\, 215 Cypress Ave.\, Snohomish\, WA\, 98290
END:VEVENT
BEGIN:VEVENT
DTSTART;TZID=America/Los_Angeles:20200118T203000
DTEND;TZID=America/Los_Angeles:20200119T003000
DTSTAMP:20260422T093706
CREATED:20191230T041414Z
LAST-MODIFIED:20220427T103615Z
UID:466-1579379400-1579393800@davanos.com
SUMMARY:Loco Billy's Wild Moon Saloon
DESCRIPTION:
URL:https://davanos.com/show/loco-billys-wild-moon-saloon-01-18-20/
LOCATION:Loco Billy’s Wild Moon Saloon\, 27021 102nd Ave NW\, Stanwood\, WA\, 98292\, United States
END:VEVENT
END:VCALENDAR